BEGIN:VCALENDAR
VERSION:2.0
PRODID:-//St Peters in the Woods - ECPv6.15.20//NONSGML v1.0//EN
CALSCALE:GREGORIAN
METHOD:PUBLISH
X-ORIGINAL-URL:https://www.stpetersinthewoods.org
X-WR-CALDESC:Events for St Peters in the Woods
REFRESH-INTERVAL;VALUE=DURATION:PT1H
X-Robots-Tag:noindex
X-PUBLISHED-TTL:PT1H
BEGIN:VTIMEZONE
TZID:America/New_York
BEGIN:DAYLIGHT
TZOFFSETFROM:-0500
TZOFFSETTO:-0400
TZNAME:EDT
DTSTART:20210314T070000
END:DAYLIGHT
BEGIN:STANDARD
TZOFFSETFROM:-0400
TZOFFSETTO:-0500
TZNAME:EST
DTSTART:20211107T060000
END:STANDARD
BEGIN:DAYLIGHT
TZOFFSETFROM:-0500
TZOFFSETTO:-0400
TZNAME:EDT
DTSTART:20220313T070000
END:DAYLIGHT
BEGIN:STANDARD
TZOFFSETFROM:-0400
TZOFFSETTO:-0500
TZNAME:EST
DTSTART:20221106T060000
END:STANDARD
BEGIN:DAYLIGHT
TZOFFSETFROM:-0500
TZOFFSETTO:-0400
TZNAME:EDT
DTSTART:20230312T070000
END:DAYLIGHT
BEGIN:STANDARD
TZOFFSETFROM:-0400
TZOFFSETTO:-0500
TZNAME:EST
DTSTART:20231105T060000
END:STANDARD
END:VTIMEZONE
BEGIN:VEVENT
DTSTART;TZID=America/New_York:20221105T084500
DTEND;TZID=America/New_York:20221105T100000
DTSTAMP:20260422T043345
CREATED:20221031T201157Z
LAST-MODIFIED:20221031T202024Z
UID:912-1667637900-1667642400@www.stpetersinthewoods.org
SUMMARY:Women's Group - Baking and Breaking Bread Together
DESCRIPTION:8:45 a.m. – Coffee and Tea\n9:00 a.m. – Bread Breaking\n\nHope you can join us at our November 5 Women’s Group meeting when we’ll be “Baking and Breaking Bread Together.” Tracey O’Malley will provide us with instructions for how to mix and bake a quick communion bread. Once our bread is finished\, Rev. Susan will lead us in a eucharist.\n\nPlease bring an apron and a rolling pin\, if you can.
URL:https://www.stpetersinthewoods.org/event/womens-group-baking-and-breaking-bread-together/
CATEGORIES:Featured Event
ATTACH;FMTTYPE=image/png:https://www.stpetersinthewoods.org/wp-content/uploads/2022/10/Communion-bread.png
END:VEVENT
BEGIN:VEVENT
DTSTART;TZID=America/New_York:20221113T120000
DTEND;TZID=America/New_York:20221113T130000
DTSTAMP:20260422T043345
CREATED:20221031T201321Z
LAST-MODIFIED:20221031T201321Z
UID:910-1668340800-1668344400@www.stpetersinthewoods.org
SUMMARY:Adult Forum - Honoring our veterans.
DESCRIPTION:“Where did you find God in serving your country?” To honor our Veterans\, we will hold a special Adult Forum on November 13th at noon on Zoom. We would like to have a few veterans give a 5-minute talk on where they found God while serving\, take a few minutes of silence after each sharing and ask them some questions.
URL:https://www.stpetersinthewoods.org/event/adult-forum-honoring-our-veterans/
CATEGORIES:Featured Event
ATTACH;FMTTYPE=image/jpeg:https://www.stpetersinthewoods.org/wp-content/uploads/2022/10/Small-flags.jpg
END:VEVENT
BEGIN:VEVENT
DTSTART;TZID=America/New_York:20221113T180000
DTEND;TZID=America/New_York:20221113T200000
DTSTAMP:20260422T043345
CREATED:20221107T194750Z
LAST-MODIFIED:20221107T194750Z
UID:922-1668362400-1668369600@www.stpetersinthewoods.org
SUMMARY:Youth Group
DESCRIPTION:Youth Group. We will be making cookies to donate to the Lamb Center for their Thanksgiving Dinner. Please see sign up genius to bring ingredients and enjoy an evening of baking fun. Please let Rev. G know if you have any questions.
URL:https://www.stpetersinthewoods.org/event/youth-group/
CATEGORIES:Featured Event
ATTACH;FMTTYPE=image/jpeg:https://www.stpetersinthewoods.org/wp-content/uploads/2022/11/12-5-21-YG-Cookies.13-scaled.jpg
END:VEVENT
BEGIN:VEVENT
DTSTART;TZID=America/New_York:20221120T080000
DTEND;TZID=America/New_York:20221120T110000
DTSTAMP:20260422T043345
CREATED:20221115T210755Z
LAST-MODIFIED:20221115T210755Z
UID:925-1668931200-1668942000@www.stpetersinthewoods.org
SUMMARY:Ingathering Sunday
DESCRIPTION:Ingathering Sunday is when we bless the pledges that have been received for our service to God and the community. This will formally complete St. Peter’s in the Woods Pledge season.
URL:https://www.stpetersinthewoods.org/event/ingathering-sunday/
CATEGORIES:Featured Event
ATTACH;FMTTYPE=image/png:https://www.stpetersinthewoods.org/wp-content/uploads/2022/10/Stewardship-Logo_320.png
END:VEVENT
BEGIN:VEVENT
DTSTART;TZID=America/New_York:20221122T193000
DTEND;TZID=America/New_York:20221122T203000
DTSTAMP:20260422T043345
CREATED:20221115T210844Z
LAST-MODIFIED:20221115T210844Z
UID:929-1669145400-1669149000@www.stpetersinthewoods.org
SUMMARY:Interfaith Thanksgiving Service
DESCRIPTION:This year St. Peter’s in the Woods will be joining neighboring houses of worship for a combined Interfaith Thanksgiving Service.  It will be at Burke Presbyterian Church on Oak Leather Dr at 7:30 p.m.  Let us gather with the community to celebrate and give thanks for 39 years of Interfaith worship in our area!\n\nBring rice and beans for the ECHO food drive!
URL:https://www.stpetersinthewoods.org/event/interfaith-thanksgiving-service-2/
CATEGORIES:Featured Event
ATTACH;FMTTYPE=image/jpeg:https://www.stpetersinthewoods.org/wp-content/uploads/2021/11/Thanksgiving-Even-Image.jpg
END:VEVENT
END:VCALENDAR